View In:
ArcMap
ArcGIS Explorer
ArcGIS JavaScript
Google Earth
View Footprint In:
Google Earth
Service Description: This map presents medium to high resolution imagery for various locations around the world assembled from members of the ArcGIS user community. The map is meant to overlay and supplement other base imagery available through the World Imagery service which presents a seamless mosaic of 15m imagery for the world and 1-2m imagery for the United States. In many areas, the imagery presented in this map is more detailed or more current than the imagery assembled in the World Imagery seamless mosaic. The imagery presented in this map currently features high-resolution imagery for several areas including Portugal; British Channel Islands; State of Massachusetts; State of Pennsylvania; York County, South Carolina; San Bernardino County, California; San Diego County, California; Ventura, California; and post Hurricane Ike imagery for the Galveston, Texas, area. Additional imagery will be added to this map on a regular basis as it is made available to ESRI through the ArcGIS Online Content Sharing
Program (CSP) and processed. For more information on this map, visit us
online.
Map Name: Layers
Layers:
Description: This map presents medium to high resolution imagery for various locations around the world assembled from members of the ArcGIS user community. The map is meant to overlay and supplement other base imagery available through the World Imagery service which presents a seamless mosaic of 15m imagery for the world and 1-2m imagery for the United States. In many areas, the imagery presented in this map is more detailed or more current than the imagery assembled in the World Imagery seamless mosaic. The imagery presented in this map currently features high-resolution imagery for several areas including Portugal; British Channel Islands; State of Massachusetts; State of Pennsylvania; York County, South Carolina; San Bernardino County, California; San Diego County, California; Ventura, California; and post Hurricane Ike imagery for the Galveston, Texas, area. Additional imagery will be added to this map on a regular basis as it is made available to ESRI through the ArcGIS Online Content Sharing Program (CSP) and processed. For more information on this map, visit us online at http://goto.arcgisonline.com/maps/CSP_Imagery_World_2D
Copyright Text: Source: ArcGIS User Community
Spatial Reference: 4326
Single Fused Map Cache: true
Tile Info:
- Height: 512
- Width: 512
- DPI: 96
- Levels of Detail: (# Levels: 19)
-
Level ID: 0
[Start Tile,
End Tile]
Resolution: 0.3515625
Scale: 147748799.285417
-
Level ID: 1
[Start Tile,
End Tile]
Resolution: 0.17578125
Scale: 73874399.6427087
-
Level ID: 2
[Start Tile,
End Tile]
Resolution: 0.087890625
Scale: 36937199.8213544
-
Level ID: 3
[Start Tile,
End Tile]
Resolution: 0.0439453125
Scale: 18468599.9106772
-
Level ID: 4
[Start Tile,
End Tile]
Resolution: 0.02197265625
Scale: 9234299.95533859
-
Level ID: 5
[Start Tile,
End Tile]
Resolution: 0.010986328125
Scale: 4617149.97766929
-
Level ID: 6
[Start Tile,
End Tile]
Resolution: 0.0054931640625
Scale: 2308574.98883465
-
Level ID: 7
[Start Tile,
End Tile]
Resolution: 0.00274658203125
Scale: 1154287.49441732
-
Level ID: 8
[Start Tile,
End Tile]
Resolution: 0.001373291015625
Scale: 577143.747208662
-
Level ID: 9
[Start Tile,
End Tile]
Resolution: 0.0006866455078125
Scale: 288571.873604331
-
Level ID: 10
[Start Tile,
End Tile]
Resolution: 0.00034332275390625
Scale: 144285.936802165
-
Level ID: 11
[Start Tile,
End Tile]
Resolution: 0.000171661376953125
Scale: 72142.9684010827
-
Level ID: 12
[Start Tile,
End Tile]
Resolution: 8.58306884765629E-05
Scale: 36071.4842005414
-
Level ID: 13
[Start Tile,
End Tile]
Resolution: 4.29153442382814E-05
Scale: 18035.7421002707
-
Level ID: 14
[Start Tile,
End Tile]
Resolution: 2.14576721191407E-05
Scale: 9017.87105013534
-
Level ID: 15
[Start Tile,
End Tile]
Resolution: 1.07288360595703E-05
Scale: 4508.93552506767
-
Level ID: 16
[Start Tile,
End Tile]
Resolution: 5.36441802978517E-06
Scale: 2254.46776253384
-
Level ID: 17
[Start Tile,
End Tile]
Resolution: 2.68220901489259E-06
Scale: 1127.23388126692
-
Level ID: 18
[Start Tile,
End Tile]
Resolution: 1.34110450744629E-06
Scale: 563.616940633455
- Format: JPEG
- Compression Quality: 75
-
Origin:
- Spatial Reference: 4326
Intial Extent:
XMin: -179.999996642358
YMin: -140.380432164013
XMax: 179.999996642358
YMax: 140.380432164013
Spatial Reference: 4326
Full Extent:
XMin: -179.99999
YMin: -89.99999
XMax: 179.99999
YMax: 89.99999
Spatial Reference: 4326
Units: esriDecimalDegrees
Supported Image Format Types: PNG24,PNG,JPG,DIB,TIFF,EMF,PS,PDF,GIF,SVG,SVGZ,AI
Document Info:
- Title: CSP Imagery World
- Author: ESRI
- Comments:
- Subject:
- Category:
- Keywords:
Supported Interfaces:
REST
SOAP
Supported Operations:
Export Map
Identify
Find
Generate KML