View In:
ArcMap
ArcGIS Explorer
ArcGIS JavaScript
Google Earth
View Footprint In:
Google Earth
Service Description: The 2008 Diversity Index summarizes racial and ethnic diversity. The index shows the likelihood that two persons chosen at random from the same area, belong to different race or ethnic groups. The index ranges from 0 (no diversity) to 100 (complete diversity). For example, the diversity score for the U.S. is 60 which means there is a 60 percent probability that two people randomly chosen from the U.S. population would belong to different race or ethnic groups. Diversity in the U.S. population is increasing. The states with the most diverse populations are California, New Mexico and Texas. For more information on this map, visit us
online.
Map Name: Layers
Layers:
Description: The 2008 Diversity Index summarizes racial and ethnic diversity. The index shows the likelihood that two persons chosen at random from the same area, belong to different race or ethnic groups. The index ranges from 0 (no diversity) to 100 (complete diversity). For example, the diversity score for the U.S. is 60 which means there is a 60 percent probability that two people randomly chosen from the U.S. population would belong to different race or ethnic groups. Diversity in the U.S. population is increasing. The states with the most diverse populations are California, New Mexico and Texas. For more information on this map, visit us online at http://goto.arcgisonline.com/maps/Demographics/ESRI_Diversity_US_2D
Copyright Text: Copyright:© 2009 ESRI
Spatial Reference: 4326
Single Fused Map Cache: true
Tile Info:
- Height: 512
- Width: 512
- DPI: 96
- Levels of Detail: (# Levels: 13)
-
Level ID: 0
[Start Tile,
End Tile]
Resolution: 0.351562499999999
Scale: 147748799.285417
-
Level ID: 1
[Start Tile,
End Tile]
Resolution: 0.17578125
Scale: 73874399.6427087
-
Level ID: 2
[Start Tile,
End Tile]
Resolution: 0.0878906250000001
Scale: 36937199.8213544
-
Level ID: 3
[Start Tile,
End Tile]
Resolution: 0.0439453125
Scale: 18468599.9106772
-
Level ID: 4
[Start Tile,
End Tile]
Resolution: 0.02197265625
Scale: 9234299.95533859
-
Level ID: 5
[Start Tile,
End Tile]
Resolution: 0.010986328125
Scale: 4617149.97766929
-
Level ID: 6
[Start Tile,
End Tile]
Resolution: 0.0054931640625
Scale: 2308574.98883465
-
Level ID: 7
[Start Tile,
End Tile]
Resolution: 0.00274658203124999
Scale: 1154287.49441732
-
Level ID: 8
[Start Tile,
End Tile]
Resolution: 0.001373291015625
Scale: 577143.747208662
-
Level ID: 9
[Start Tile,
End Tile]
Resolution: 0.0006866455078125
Scale: 288571.873604331
-
Level ID: 10
[Start Tile,
End Tile]
Resolution: 0.000343322753906249
Scale: 144285.936802165
-
Level ID: 11
[Start Tile,
End Tile]
Resolution: 0.000171661376953125
Scale: 72142.9684010827
-
Level ID: 12
[Start Tile,
End Tile]
Resolution: 8.58306884765626E-05
Scale: 36071.4842005414
- Format: PNG8
- Compression Quality: 0
-
Origin:
- Spatial Reference: 4326
Intial Extent:
XMin: -183.791721606878
YMin: -16.2810564763598
XMax: -61.3859313931268
YMax: 106.582325476508
Spatial Reference: 4326
Full Extent:
XMin: -178.227822051708
YMin: 18.9107869759661
XMax: -66.9498309482973
YMax: 71.3904820241823
Spatial Reference: 4326
Units: esriDecimalDegrees
Supported Image Format Types: PNG24,PNG,JPG,DIB,TIFF,EMF,PS,PDF,GIF,SVG,SVGZ,AI
Document Info:
- Title: ESRI Diversity US 2D
- Author: ESRI
- Comments:
- Subject:
- Category:
- Keywords:
Supported Interfaces:
REST
SOAP
Supported Operations:
Export Map
Identify
Find
Generate KML