View In:
ArcMap
ArcGIS Explorer
ArcGIS JavaScript
Google Earth
View Footprint In:
Google Earth
Service Description: This thematic map presents the daytime population ratio in the United States in 2009. This ratio represents the daytime population, measured as the number of workers who are employed in the area during the day, relative to the resident population of the area. The number of workers is the sum of employees by place of work from the 2009 infoUSA database. The 2009 total population is estimated by ESRI and includes both household and group quarters population. The ratio reflects the number of workers per 100 residents of the area. Total Population for 2009 is estimated with ESRI’s unique methodology blending GIS and Statistical technology with a unique combination of data sources (ESRI Demographic Update Methodology: 2009/2014). Total Population for 2014 is ESRI’s five year projection. The geography depicts states at greater than 25m scale, counties at 1m to 25m scale, Census Tracts at 250k to 1m scale, and Census Block Groups at less than 250k scale. The map has been designed to be displayed with semi-transparency of about 50% for overlay on other base maps, which is reflected in the legend for the map. For more information on this map, visit us
online.
Map Name: Layers
Layers:
Description: This thematic map presents the daytime population ratio in the United States in 2009. This ratio represents the daytime population, measured as the number of workers who are employed in the area during the day, relative to the resident population of the area. The number of workers is the sum of employees by place of work from the 2009 infoUSA database. The 2009 total population is estimated by ESRI and includes both household and group quarters population. The ratio reflects the number of workers per 100 residents of the area. Total Population for 2009 is estimated with ESRI’s unique methodology blending GIS and Statistical technology with a unique combination of data sources (ESRI Demographic Update Methodology: 2009/2014). Total Population for 2014 is ESRI’s five year projection. The geography depicts states at greater than 25m scale, counties at 1m to 25m scale, Census Tracts at 250k to 1m scale, and Census Block Groups at less than 250k scale. The map has been designed to be displayed with semi-transparency of about 50% for overlay on other base maps, which is reflected in the legend for the map. For more information on this map, visit us online at http://goto.arcgisonline.com/maps/Demographics/USA_Daytime_Population
Copyright Text: Copyright:© 2009 ESRI
Spatial Reference: 102100
Single Fused Map Cache: true
Tile Info:
- Height: 256
- Width: 256
- DPI: 96
- Levels of Detail: (# Levels: 14)
-
Level ID: 0
[Start Tile,
End Tile]
Resolution: 156543.033928
Scale: 591657527.591555
-
Level ID: 1
[Start Tile,
End Tile]
Resolution: 78271.5169639999
Scale: 295828763.795777
-
Level ID: 2
[Start Tile,
End Tile]
Resolution: 39135.7584820001
Scale: 147914381.897889
-
Level ID: 3
[Start Tile,
End Tile]
Resolution: 19567.8792409999
Scale: 73957190.948944
-
Level ID: 4
[Start Tile,
End Tile]
Resolution: 9783.93962049996
Scale: 36978595.474472
-
Level ID: 5
[Start Tile,
End Tile]
Resolution: 4891.96981024998
Scale: 18489297.737236
-
Level ID: 6
[Start Tile,
End Tile]
Resolution: 2445.98490512499
Scale: 9244648.868618
-
Level ID: 7
[Start Tile,
End Tile]
Resolution: 1222.99245256249
Scale: 4622324.434309
-
Level ID: 8
[Start Tile,
End Tile]
Resolution: 611.49622628138
Scale: 2311162.217155
-
Level ID: 9
[Start Tile,
End Tile]
Resolution: 305.748113140558
Scale: 1155581.108577
-
Level ID: 10
[Start Tile,
End Tile]
Resolution: 152.874056570411
Scale: 577790.554289
-
Level ID: 11
[Start Tile,
End Tile]
Resolution: 76.4370282850732
Scale: 288895.277144
-
Level ID: 12
[Start Tile,
End Tile]
Resolution: 38.2185141425366
Scale: 144447.638572
-
Level ID: 13
[Start Tile,
End Tile]
Resolution: 19.1092570712683
Scale: 72223.819286
- Format: PNG8
- Compression Quality: 0
-
Origin:
X: -20037508.342787
Y: 20037508.342787
- Spatial Reference: 102100
Intial Extent:
XMin: -20037507.0671618
YMin: -2239338.81369362
XMax: -6679169.44759641
YMax: 14549828.6863066
Spatial Reference: 102100
Full Extent:
XMin: -20037508.2314698
YMin: 557305.257274575
XMax: -6679169.44759641
YMax: 11753184.6153385
Spatial Reference: 102100
Units: esriMeters
Supported Image Format Types: PNG24,PNG,JPG,DIB,TIFF,EMF,PS,PDF,GIF,SVG,SVGZ,AI
Document Info:
- Title: USA Daytime Population
- Author: ESRI
- Comments:
- Subject: demographics
- Category:
- Keywords: United States, 2009, population
Supported Interfaces:
REST
SOAP
Supported Operations:
Export Map
Identify
Find
Generate KML