View In:
ArcMap
ArcGIS Explorer
ArcGIS JavaScript
Google Earth
ArcGIS.com Map
View Footprint In:
Google Earth
Service Description: This map is in
Extended Support and is no longer updated. Esri recommends that you use
World_Street_Map instead (ArcGIS 9.3 or higher is required).
Map Name: Layers
Legend
All Layers and Tables
Layers:
Tables:
Description: This worldwide street map presents highway-level data for the world and street-level data for the United States, Canada, Japan, Southern Africa, and a number of countries in Europe and elsewhere. This comprehensive street map includes highways, major roads, minor roads, railways, water features, administrative boundaries, cities, parks, and landmarks, overlaid on shaded relief imagery for added context. The street map was developed by Esri using DeLorme data and TomTom street data for North America and Europe. Coverage for street-level data in Europe includes Andorra, Austria, Belgium, Czech Republic, Denmark, France, Germany, Great Britain, Greece, Hungary, Ireland, Italy, Luxembourg, Netherlands, Northern Ireland (Belfast only), Norway, Poland, Portugal, San Marino, Slovakia, Spain, Sweden, and Switzerland. Coverage for street-level data elsewhere in the world includes China (Hong Kong only), Indonesia (Jakarta only), Egypt (Cairo only), Japan, Mexico (Mexico City only), Russia (Moscow, St. Petersburg only), and Turkey (Istanbul, Ankara only). For more information on this map, visit us online at http://goto.arcgisonline.com/maps/ESRI_StreetMap_World_2D
Copyright Text: Sources: Esri, DeLorme, TomTom, USGS, Esri Japan, Esri China (Hong Kong)
Spatial Reference: 4326
Single Fused Map Cache: true
Tile Info:
- Height: 512
- Width: 512
- DPI: 96
- Levels of Detail: (# Levels: 16)
-
Level ID: 0
[Start Tile,
End Tile]
Resolution: 0.3515625
Scale: 147748799.285417
-
Level ID: 1
[Start Tile,
End Tile]
Resolution: 0.17578125
Scale: 73874399.6427087
-
Level ID: 2
[Start Tile,
End Tile]
Resolution: 0.087890625
Scale: 36937199.8213544
-
Level ID: 3
[Start Tile,
End Tile]
Resolution: 0.0439453125
Scale: 18468599.9106772
-
Level ID: 4
[Start Tile,
End Tile]
Resolution: 0.02197265625
Scale: 9234299.95533859
-
Level ID: 5
[Start Tile,
End Tile]
Resolution: 0.010986328125
Scale: 4617149.97766929
-
Level ID: 6
[Start Tile,
End Tile]
Resolution: 0.0054931640625
Scale: 2308574.98883465
-
Level ID: 7
[Start Tile,
End Tile]
Resolution: 0.00274658203125
Scale: 1154287.49441732
-
Level ID: 8
[Start Tile,
End Tile]
Resolution: 0.001373291015625
Scale: 577143.747208662
-
Level ID: 9
[Start Tile,
End Tile]
Resolution: 0.0006866455078125
Scale: 288571.873604331
-
Level ID: 10
[Start Tile,
End Tile]
Resolution: 0.00034332275390625
Scale: 144285.936802165
-
Level ID: 11
[Start Tile,
End Tile]
Resolution: 0.000171661376953125
Scale: 72142.9684010827
-
Level ID: 12
[Start Tile,
End Tile]
Resolution: 8.58306884765629E-05
Scale: 36071.4842005414
-
Level ID: 13
[Start Tile,
End Tile]
Resolution: 4.29153442382814E-05
Scale: 18035.7421002707
-
Level ID: 14
[Start Tile,
End Tile]
Resolution: 2.14576721191407E-05
Scale: 9017.87105013534
-
Level ID: 15
[Start Tile,
End Tile]
Resolution: 1.07288360595703E-05
Scale: 4508.93552506767
- Format: JPEG
- Compression Quality: 90
-
Origin:
- Spatial Reference: 4326
Intial Extent:
XMin: -199.999992538573
YMin: -199.999992538573
XMax: 199.999992538573
YMax: 199.999992538573
Spatial Reference: 4326
Full Extent:
XMin: -179.99999
YMin: -89.99999
XMax: 179.99999
YMax: 89.99999
Spatial Reference: 4326
Units: esriDecimalDegrees
Supported Image Format Types: PNG24,PNG,JPG,DIB,TIFF,EMF,PS,PDF,GIF,SVG,SVGZ,AI,BMP
Document Info:
- Title: World Street Map
- Author: Esri
- Comments:
- Subject: streets, highways, major roads, minor roads, railways, water features, administrative boundaries, cities, parks, protected areas, landmarks
- Category: transportation(Transportation Networks)
- Keywords: World, Global, Canada, Europe, Japan, North America, Southern Africa, United States, 2008
- Credits:
Supported Interfaces:
REST
SOAP
Supported Operations:
Export Map
Generate KML