View In:
ArcMap
ArcGIS Explorer
ArcGIS JavaScript
Google Earth
View Footprint In:
Google Earth
Service Description: This map presents satellite imagery for the world and high-resolution aerial imagery for the United States. The map includes NASA Blue Marble: Next Generation 500m resolution imagery at small scales and i-cubed 15m eSAT imagery at medium-to-large scales for the world. The map also includes i-cubed Nationwide Prime 1m or better resolution imagery for the contiguous United States. I-cubed Nationwide Prime is a seamless, color mosaic of various commercial and government imagery sources, including Aerials Express 0.3 to 0.6m resolution imagery for metropolitan areas and the best available United States Department of Agriculture (USDA) National Agriculture Imagery Program (NAIP) imagery and enhanced versions of United States Geological Survey (USGS) Digital Ortho Quarter Quad (DOQQ) imagery for other areas. For more information on this map, visit us
online.
Map Name: Layers
Layers:
Description: This map presents satellite imagery for the world and high-resolution aerial imagery for the United States. The map includes NASA Blue Marble: Next Generation 500m resolution imagery at small scales and i-cubed 15m eSAT imagery at medium-to-large scales for the world. The map also includes i-cubed Nationwide Prime 1m or better resolution imagery for the contiguous United States. I-cubed Nationwide Prime is a seamless, color mosaic of various commercial and government imagery sources, including Aerials Express 0.3 to 0.6m resolution imagery for metropolitan areas and the best available United States Department of Agriculture (USDA) National Agriculture Imagery Program (NAIP) imagery and enhanced versions of United States Geological Survey (USGS) Digital Ortho Quarter Quad (DOQQ) imagery for other areas. For more information on this map, visit us online at http://goto.arcgisonline.com/maps/I3_Imagery_Prime_World_2D
Copyright Text: Copyright:© 2009 i-cubed
Spatial Reference: 4326
Single Fused Map Cache: true
Tile Info:
- Height: 512
- Width: 512
- DPI: 96
- Levels of Detail: (# Levels: 18)
-
Level ID: 0
[Start Tile,
End Tile]
Resolution: 0.3515625
Scale: 147748799.285417
-
Level ID: 1
[Start Tile,
End Tile]
Resolution: 0.17578125
Scale: 73874399.6427087
-
Level ID: 2
[Start Tile,
End Tile]
Resolution: 0.087890625
Scale: 36937199.8213544
-
Level ID: 3
[Start Tile,
End Tile]
Resolution: 0.0439453125
Scale: 18468599.9106772
-
Level ID: 4
[Start Tile,
End Tile]
Resolution: 0.02197265625
Scale: 9234299.95533859
-
Level ID: 5
[Start Tile,
End Tile]
Resolution: 0.010986328125
Scale: 4617149.97766929
-
Level ID: 6
[Start Tile,
End Tile]
Resolution: 0.0054931640625
Scale: 2308574.98883465
-
Level ID: 7
[Start Tile,
End Tile]
Resolution: 0.00274658203125
Scale: 1154287.49441732
-
Level ID: 8
[Start Tile,
End Tile]
Resolution: 0.001373291015625
Scale: 577143.747208662
-
Level ID: 9
[Start Tile,
End Tile]
Resolution: 0.0006866455078125
Scale: 288571.873604331
-
Level ID: 10
[Start Tile,
End Tile]
Resolution: 0.00034332275390625
Scale: 144285.936802165
-
Level ID: 11
[Start Tile,
End Tile]
Resolution: 0.000171661376953125
Scale: 72142.9684010827
-
Level ID: 12
[Start Tile,
End Tile]
Resolution: 8.58306884765629E-05
Scale: 36071.4842005414
-
Level ID: 13
[Start Tile,
End Tile]
Resolution: 4.29153442382814E-05
Scale: 18035.7421002707
-
Level ID: 14
[Start Tile,
End Tile]
Resolution: 2.14576721191407E-05
Scale: 9017.87105013534
-
Level ID: 15
[Start Tile,
End Tile]
Resolution: 1.07288360595703E-05
Scale: 4508.93552506767
-
Level ID: 16
[Start Tile,
End Tile]
Resolution: 5.36441802978515E-06
Scale: 2254.46776253384
-
Level ID: 17
[Start Tile,
End Tile]
Resolution: 2.68220901489258E-06
Scale: 1127.23388126692
- Format: JPEG
- Compression Quality: 75
-
Origin:
- Spatial Reference: 4326
Intial Extent:
XMin: -179.999999
YMin: -89.999999
XMax: 179.999999
YMax: 89.999999
Spatial Reference: 4326
Full Extent:
XMin: -179.999999
YMin: -89.999999
XMax: 179.999999
YMax: 89.999999
Spatial Reference: 4326
Units: esriDecimalDegrees
Supported Image Format Types: PNG24,PNG,JPG,DIB,TIFF,EMF,PS,PDF,GIF,SVG,SVGZ,AI
Document Info:
- Title: USA Prime Imagery
- Author: ESRI
- Comments:
- Subject: imagery, satellite, aerial, 15m (World), 500m (World), <1m (U.S.), DOQQ, NAIP
- Category: imageryBaseMapsEarthCover (Imagery, basemaps, and land cover)
- Keywords: World, Global, United States, 2009
Supported Interfaces:
REST
SOAP
Supported Operations:
Export Map
Identify
Find
Generate KML