View In:
ArcMap
ArcGIS Explorer
ArcGIS JavaScript
Google Earth
View Footprint In:
Google Earth
Service Description: This service presents country, state/province, and county or equivalent boundaries and place names for the world. The map was developed by ESRI using administrative and landmark data from ESRI, AND, and Tele Atlas. This service is designed for use with services with lighter backgrounds, such as ESRI_ShadedRelief_World. For more information on this map, visit us
online.
Map Name: Layers
Layers:
Description: This service presents country, state/province, and county or equivalent boundaries and place names for the world. The map was developed by ESRI using administrative and landmark data from ESRI, AND, and Tele Atlas. This service is designed for use with services with lighter backgrounds, such as ESRI_ShadedRelief_World. For more information on this map, visit us online at http://goto.arcgisonline.com/maps/Reference/ESRI_BoundariesPlacesAlt_World_2D
Copyright Text: Copyright:© 2009 ESRI, AND, TANA
Spatial Reference: 4326
Single Fused Map Cache: true
Tile Info:
- Height: 512
- Width: 512
- DPI: 96
- Levels of Detail: (# Levels: 11)
-
Level ID: 0
[Start Tile,
End Tile]
Resolution: 0.3515625
Scale: 147748799.285417
-
Level ID: 1
[Start Tile,
End Tile]
Resolution: 0.17578125
Scale: 73874399.6427087
-
Level ID: 2
[Start Tile,
End Tile]
Resolution: 0.087890625
Scale: 36937199.8213544
-
Level ID: 3
[Start Tile,
End Tile]
Resolution: 0.0439453125
Scale: 18468599.9106772
-
Level ID: 4
[Start Tile,
End Tile]
Resolution: 0.02197265625
Scale: 9234299.95533859
-
Level ID: 5
[Start Tile,
End Tile]
Resolution: 0.010986328125
Scale: 4617149.97766929
-
Level ID: 6
[Start Tile,
End Tile]
Resolution: 0.0054931640625
Scale: 2308574.98883465
-
Level ID: 7
[Start Tile,
End Tile]
Resolution: 0.00274658203125
Scale: 1154287.49441732
-
Level ID: 8
[Start Tile,
End Tile]
Resolution: 0.001373291015625
Scale: 577143.747208662
-
Level ID: 9
[Start Tile,
End Tile]
Resolution: 0.0006866455078125
Scale: 288571.873604331
-
Level ID: 10
[Start Tile,
End Tile]
Resolution: 0.00034332275390625
Scale: 144285.936802165
- Format: PNG8
- Compression Quality: 0
-
Origin:
- Spatial Reference: 4326
Intial Extent:
XMin: -179.999996642358
YMin: -226.229503976734
XMax: 179.999996642358
YMax: 226.229503976734
Spatial Reference: 4326
Full Extent:
XMin: -179.99999
YMin: -89.99999
XMax: 179.99999
YMax: 89.99999
Spatial Reference: 4326
Units: esriDecimalDegrees
Supported Image Format Types: PNG24,PNG,JPG,DIB,TIFF,EMF,PS,PDF,GIF,SVG,SVGZ,AI
Document Info:
- Title: ESRI Boundaries Places Alt World
- Author: ESRI
- Comments:
- Subject:
- Category:
- Keywords:
Supported Interfaces:
REST
SOAP
Supported Operations:
Export Map
Generate KML