View In:
ArcMap
ArcGIS Explorer
ArcGIS JavaScript
Google Earth
View Footprint In:
Google Earth
Service Description: This map presents country, state/province, and county or equivalent boundaries and place names for the world. The map was developed by ESRI using administrative and cities data from ESRI and AND Mapping for the world and Tele Atlas administrative, cities, and landmark data for North America and Europe. This map is designed for overlay on maps with darker backgrounds. For more information on this map, visit us
online.
Map Name: Layers
Layers:
Description: This map presents country, state/province, and county or equivalent boundaries and place names for the world. The map was developed by ESRI using administrative and cities data from ESRI and AND Mapping for the world and Tele Atlas administrative, cities, and landmark data for North America and Europe. This map is designed for overlay on maps with darker backgrounds. For more information on this map, visit us online at http://goto.arcgisonline.com/maps/Reference/ESRI_BoundariesPlaces_World_2D
Copyright Text: Copyright:© 2009 ESRI, AND, TANA
Spatial Reference: 4326
Single Fused Map Cache: true
Tile Info:
- Height: 512
- Width: 512
- DPI: 96
- Levels of Detail: (# Levels: 15)
-
Level ID: 0
[Start Tile,
End Tile]
Resolution: 0.351562499999999
Scale: 147748799.285417
-
Level ID: 1
[Start Tile,
End Tile]
Resolution: 0.17578125
Scale: 73874399.6427087
-
Level ID: 2
[Start Tile,
End Tile]
Resolution: 0.0878906250000001
Scale: 36937199.8213544
-
Level ID: 3
[Start Tile,
End Tile]
Resolution: 0.0439453125
Scale: 18468599.9106772
-
Level ID: 4
[Start Tile,
End Tile]
Resolution: 0.02197265625
Scale: 9234299.95533859
-
Level ID: 5
[Start Tile,
End Tile]
Resolution: 0.010986328125
Scale: 4617149.97766929
-
Level ID: 6
[Start Tile,
End Tile]
Resolution: 0.0054931640625
Scale: 2308574.98883465
-
Level ID: 7
[Start Tile,
End Tile]
Resolution: 0.00274658203124999
Scale: 1154287.49441732
-
Level ID: 8
[Start Tile,
End Tile]
Resolution: 0.001373291015625
Scale: 577143.747208662
-
Level ID: 9
[Start Tile,
End Tile]
Resolution: 0.0006866455078125
Scale: 288571.873604331
-
Level ID: 10
[Start Tile,
End Tile]
Resolution: 0.000343322753906249
Scale: 144285.936802165
-
Level ID: 11
[Start Tile,
End Tile]
Resolution: 0.000171661376953125
Scale: 72142.9684010827
-
Level ID: 12
[Start Tile,
End Tile]
Resolution: 8.58306884765626E-05
Scale: 36071.4842005414
-
Level ID: 13
[Start Tile,
End Tile]
Resolution: 4.29153442382813E-05
Scale: 18035.7421002707
-
Level ID: 14
[Start Tile,
End Tile]
Resolution: 2.14576721191406E-05
Scale: 9017.87105013534
- Format: PNG8
- Compression Quality: 0
-
Origin:
- Spatial Reference: 4326
Intial Extent:
XMin: -179.999986569431
YMin: -143.437489297515
XMax: 179.999986569431
YMax: 143.437489297515
Spatial Reference: 4326
Full Extent:
XMin: -179.99999
YMin: -89.99999
XMax: 179.99999
YMax: 89.99999
Spatial Reference: 4326
Units: esriDecimalDegrees
Supported Image Format Types: PNG24,PNG,JPG,DIB,TIFF,EMF,PS,PDF,GIF,SVG,SVGZ,AI
Document Info:
- Title: World Boundaries and Places
- Author: ESRI
- Comments:
- Subject: countries, states, provinces, counties, cities, administrative areas, place names, landmarks
- Category: boundaries (Administrative and political boundaries)
- Keywords: World, Global, Europe, North America, United States, 2008
Supported Interfaces:
REST
SOAP
Supported Operations:
Export Map
Generate KML