View In:
ArcMap
ArcGIS Explorer
ArcGIS JavaScript
Google Earth
View Footprint In:
Google Earth
Service Description: This map illustrates the coverage area available for the high-resolution imagery available through the World User Imagery map (i.e. CSP_Imagery_World_2D). The map is meant to overlay other base imagery available through the World Imagery service to illustrate at small scales where high-resolution imagery is available in the World User Imagery map at large scales. For more information on this map, visit us
online.
Map Name: Layers
Layers:
Description: This map illustrates the coverage area available for the high-resolution imagery available through the World User Imagery map (i.e. CSP_Imagery_World_2D). The map is meant to overlay other base imagery available through the World Imagery service to illustrate at small scales where high-resolution imagery is available in the World User Imagery map at large scales. For more information on this map, visit us online at http://goto.arcgisonline.com/maps/Specialty/CSP_Imagery_Coverage_2D
Copyright Text: Source: ArcGIS User Community
Spatial Reference: 4326
Single Fused Map Cache: true
Tile Info:
- Height: 512
- Width: 512
- DPI: 96
- Levels of Detail: (# Levels: 12)
-
Level ID: 0
[Start Tile,
End Tile]
Resolution: 0.351562499999999
Scale: 147748799.285417
-
Level ID: 1
[Start Tile,
End Tile]
Resolution: 0.17578125
Scale: 73874399.6427087
-
Level ID: 2
[Start Tile,
End Tile]
Resolution: 0.0878906250000001
Scale: 36937199.8213544
-
Level ID: 3
[Start Tile,
End Tile]
Resolution: 0.0439453125
Scale: 18468599.9106772
-
Level ID: 4
[Start Tile,
End Tile]
Resolution: 0.02197265625
Scale: 9234299.95533859
-
Level ID: 5
[Start Tile,
End Tile]
Resolution: 0.010986328125
Scale: 4617149.97766929
-
Level ID: 6
[Start Tile,
End Tile]
Resolution: 0.0054931640625
Scale: 2308574.98883465
-
Level ID: 7
[Start Tile,
End Tile]
Resolution: 0.00274658203124999
Scale: 1154287.49441732
-
Level ID: 8
[Start Tile,
End Tile]
Resolution: 0.001373291015625
Scale: 577143.747208662
-
Level ID: 9
[Start Tile,
End Tile]
Resolution: 0.0006866455078125
Scale: 288571.873604331
-
Level ID: 10
[Start Tile,
End Tile]
Resolution: 0.000343322753906249
Scale: 144285.936802165
-
Level ID: 11
[Start Tile,
End Tile]
Resolution: 0.000171661376953125
Scale: 72142.9684010827
- Format: PNG8
- Compression Quality: 0
-
Origin:
- Spatial Reference: 4326
Intial Extent:
XMin: -179.999896642359
YMin: -226.229378293676
XMax: 179.999896642359
YMax: 226.229378293676
Spatial Reference: 4326
Full Extent:
XMin: -179.99999
YMin: -89.99999
XMax: 179.99999
YMax: 89.99999
Spatial Reference: 4326
Units: esriDecimalDegrees
Supported Image Format Types: PNG24,PNG,JPG,DIB,TIFF,EMF,PS,PDF,GIF,SVG,SVGZ,AI
Document Info:
- Title: CSP Imagery Coverage 2D
- Author: ESRI
- Comments:
- Subject:
- Category:
- Keywords:
Supported Interfaces:
REST
SOAP
Supported Operations:
Export Map
Identify
Find
Generate KML