View In:
ArcMap
ArcGIS Explorer
ArcGIS JavaScript
Google Earth
ArcGIS.com Map
Bing Maps
(terms of use)
Google Maps
(terms of use)
View Footprint In:
Google Earth
Service Description: This worldwide street map presents highway-level data for the world. Street-level data includes the United States; much of Canada; Japan; most countries in Europe; parts of Asia; Australia and New Zealand; parts of South America including Argentina, Brazil, Chile, Columbia, and Venezuela; and parts of southern Africa including Botswana, Lesotho, Namibia, South Africa, and Swaziland.
This comprehensive street map includes highways, major roads, minor roads, one-way arrow indicators, railways, water features, administrative boundaries, cities, parks, and landmarks, overlaid on shaded relief imagery for added context. The map also includes building footprints for selected areas in the United States and Europe. Coverage is provided down to ~1:4k with ~1:1k and ~1:2k data available in select urban areas.
The street map was developed by Esri using Esri basemap data, DeLorme basemap layers, U.S. Geological Survey (USGS) elevation data, Intact Forest Landscape (IFL) data for the world; NAVTEQ data for Western Europe, Australia and New Zealand, North America, South America (Argentina, Brazil, Chile, Columbia, Venezuela), and parts of southern Africa (Botswana, Lesotho, Namibia, South Africa, and Swaziland); and TomTom data for parts of Africa (Mozambique and Zimbabwe), select countries in Eastern Europe (Albania, Bosnia and Herzegovina, Belarus, Former Yugoslav Republic of Macedonia, Moldova, Montenegro), and select European island nations (Cyprus, Faeroe Islands, Iceland, and Svalbard/Jan Mayen Islands). For more information on this map, visit us
online.
Map Name: Layers
Legend
All Layers and Tables
Layers:
Tables:
Description: This worldwide street map presents highway-level data for the world. Street-level data includes the United States; much of Canada; Japan; most countries in Europe; parts of Asia; Australia and New Zealand; parts of South America including Argentina, Brazil, Chile, Columbia, and Venezuela; and parts of southern Africa including Botswana, Lesotho, Namibia, South Africa, and Swaziland.
This comprehensive street map includes highways, major roads, minor roads, one-way arrow indicators, railways, water features, administrative boundaries, cities, parks, and landmarks, overlaid on shaded relief imagery for added context. The map also includes building footprints for selected areas in the United States and Europe. Coverage is provided down to ~1:4k with ~1:1k and ~1:2k data available in select urban areas.
The street map was developed by Esri using Esri basemap data, DeLorme basemap layers, U.S. Geological Survey (USGS) elevation data, Intact Forest Landscape (IFL) data for the world; NAVTEQ data for Western Europe, Australia and New Zealand, North America, South America (Argentina, Brazil, Chile, Columbia, Venezuela), and parts of southern Africa (Botswana, Lesotho, Namibia, South Africa, and Swaziland); and TomTom data for parts of Africa (Mozambique and Zimbabwe), select countries in Eastern Europe (Albania, Bosnia & Herzegovina, Belarus, Former Yugoslav Republic of Macedonia, Moldova, Montenegro), and select European island nations (Cyprus, Faeroe Islands, Iceland, and Svalbard/Jan Mayen Islands).
For more information on this map, visit us online at http://goto.arcgisonline.com/maps/World_Street_Map
Copyright Text: Sources: Esri, DeLorme, NAVTEQ, TomTom, USGS, Intermap, iPC, NRCAN, Esri Japan, METI, Esri China (Hong Kong), Esri (Thailand)
Spatial Reference: 102100 (3857)
Single Fused Map Cache: true
Tile Info:
- Height: 256
- Width: 256
- DPI: 96
- Levels of Detail: (# Levels: 20)
-
Level ID: 0
[Start Tile,
End Tile]
Resolution: 156543.033928
Scale: 591657527.591555
-
Level ID: 1
[Start Tile,
End Tile]
Resolution: 78271.5169639999
Scale: 295828763.795777
-
Level ID: 2
[Start Tile,
End Tile]
Resolution: 39135.7584820001
Scale: 147914381.897889
-
Level ID: 3
[Start Tile,
End Tile]
Resolution: 19567.8792409999
Scale: 73957190.948944
-
Level ID: 4
[Start Tile,
End Tile]
Resolution: 9783.93962049996
Scale: 36978595.474472
-
Level ID: 5
[Start Tile,
End Tile]
Resolution: 4891.96981024998
Scale: 18489297.737236
-
Level ID: 6
[Start Tile,
End Tile]
Resolution: 2445.98490512499
Scale: 9244648.868618
-
Level ID: 7
[Start Tile,
End Tile]
Resolution: 1222.99245256249
Scale: 4622324.434309
-
Level ID: 8
[Start Tile,
End Tile]
Resolution: 611.49622628138
Scale: 2311162.217155
-
Level ID: 9
[Start Tile,
End Tile]
Resolution: 305.748113140558
Scale: 1155581.108577
-
Level ID: 10
[Start Tile,
End Tile]
Resolution: 152.874056570411
Scale: 577790.554289
-
Level ID: 11
[Start Tile,
End Tile]
Resolution: 76.4370282850732
Scale: 288895.277144
-
Level ID: 12
[Start Tile,
End Tile]
Resolution: 38.2185141425366
Scale: 144447.638572
-
Level ID: 13
[Start Tile,
End Tile]
Resolution: 19.1092570712683
Scale: 72223.819286
-
Level ID: 14
[Start Tile,
End Tile]
Resolution: 9.55462853563415
Scale: 36111.909643
-
Level ID: 15
[Start Tile,
End Tile]
Resolution: 4.77731426794937
Scale: 18055.954822
-
Level ID: 16
[Start Tile,
End Tile]
Resolution: 2.38865713397468
Scale: 9027.977411
-
Level ID: 17
[Start Tile,
End Tile]
Resolution: 1.19432856685505
Scale: 4513.988705
-
Level ID: 18
[Start Tile,
End Tile]
Resolution: 0.597164283559817
Scale: 2256.994353
-
Level ID: 19
[Start Tile,
End Tile]
Resolution: 0.298582141647617
Scale: 1128.497176
- Format: JPEG
- Compression Quality: 90
-
Origin:
X: -20037508.342787
Y: 20037508.342787
- Spatial Reference: 102100 (3857)
Intial Extent:
XMin: -20037507.0671618
YMin: -20037507.0671618
XMax: 20037507.0671618
YMax: 20037507.0671619
Spatial Reference: 102100 (3857)
Full Extent:
XMin: -20037507.0671618
YMin: -19971868.8804086
XMax: 20037507.0671618
YMax: 19971868.8804086
Spatial Reference: 102100 (3857)
Units: esriMeters
Supported Image Format Types: PNG24,PNG,JPG,DIB,TIFF,EMF,PS,PDF,GIF,SVG,SVGZ,AI,BMP
Document Info:
- Title: World Street Map
- Author: Esri
- Comments:
- Subject: streets, highways, major roads, railways, water features, administrative boundaries, cities, parks, protected areas, landmarks
- Category: transportation(Transportation Networks)
- Keywords: World, Global, Europe, Japan, Hong Kong, North America, United States, Canada, Mexico, Southern Africa, Asia, South America, Australia, New Zealand, Argentina, Brazil, Chile, Venezuela, Andorra, Austria, Belgium, Czech Republic, Denmark, France, Germany, Great Britain, Greece, Hungary, Ireland, Italy, Luxembourg, Netherlands, Norway, Poland, Portugal, San Marino, Slovakia, Spain, Sweden, Switzerland, Russia, Thailand, Turkey, 2011
- Credits: Sources: Esri, DeLorme, NAVTEQ, TomTom, USGS, Intermap, iPC, NRCAN, Esri Japan, METI, Esri China (Hong Kong), Esri (Thailand)
Supported Interfaces:
REST
SOAP
Supported Operations:
Export Map
Generate KML