View In:
ArcMap
ArcGIS Explorer
ArcGIS JavaScript
Google Earth
View Footprint In:
Google Earth
Service Description: This map is designed to be used as a base map by GIS professionals to overlay other thematic layers such as demographics or land cover. The base map features shaded relief imagery, bathymetry, and coastal water features designed to provide a neutral background for other data layers. The map was compiled from a variety of sources from several data providers, including the U.S. Geological Survey, Tele Atlas, AND, and ESRI. The base map currently provides coverage for the world down to a scale of ~1:1m and coverage for the continental United States and Hawaii to a scale of ~1:70k. For more information on this map, visit us
online.
Map Name: Layers
Layers:
Description: This map is designed to be used as a base map by GIS professionals to overlay other thematic layers such as demographics or land cover. The base map features shaded relief imagery, bathymetry, and coastal water features designed to provide a neutral background for other data layers. The map was compiled from a variety of sources from several data providers, including the U.S. Geological Survey, Tele Atlas, AND, and ESRI. The base map currently provides coverage for the world down to a scale of ~1:1m and coverage for the continental United States and Hawaii to a scale of ~1:70k. For more information on this map, visit us online at http://goto.arcgisonline.com/maps/World_Terrain_Base
Copyright Text: Sources: USGS, ESRI, TANA, AND
Spatial Reference: 102100
Single Fused Map Cache: true
Tile Info:
- Height: 256
- Width: 256
- DPI: 96
- Levels of Detail: (# Levels: 14)
-
Level ID: 0
[Start Tile,
End Tile]
Resolution: 156543.033928
Scale: 591657527.591555
-
Level ID: 1
[Start Tile,
End Tile]
Resolution: 78271.5169639999
Scale: 295828763.795777
-
Level ID: 2
[Start Tile,
End Tile]
Resolution: 39135.7584820001
Scale: 147914381.897889
-
Level ID: 3
[Start Tile,
End Tile]
Resolution: 19567.8792409999
Scale: 73957190.948944
-
Level ID: 4
[Start Tile,
End Tile]
Resolution: 9783.93962049996
Scale: 36978595.474472
-
Level ID: 5
[Start Tile,
End Tile]
Resolution: 4891.96981024998
Scale: 18489297.737236
-
Level ID: 6
[Start Tile,
End Tile]
Resolution: 2445.98490512499
Scale: 9244648.868618
-
Level ID: 7
[Start Tile,
End Tile]
Resolution: 1222.99245256249
Scale: 4622324.434309
-
Level ID: 8
[Start Tile,
End Tile]
Resolution: 611.49622628138
Scale: 2311162.217155
-
Level ID: 9
[Start Tile,
End Tile]
Resolution: 305.748113140558
Scale: 1155581.108577
-
Level ID: 10
[Start Tile,
End Tile]
Resolution: 152.874056570411
Scale: 577790.554289
-
Level ID: 11
[Start Tile,
End Tile]
Resolution: 76.4370282850732
Scale: 288895.277144
-
Level ID: 12
[Start Tile,
End Tile]
Resolution: 38.2185141425366
Scale: 144447.638572
-
Level ID: 13
[Start Tile,
End Tile]
Resolution: 19.1092570712683
Scale: 72223.819286
- Format: JPEG
- Compression Quality: 90
-
Origin:
X: -20037508.342787
Y: 20037508.342787
- Spatial Reference: 102100
Intial Extent:
XMin: -20037507.0671618
YMin: -25183752.0516242
XMax: 20037507.0671618
YMax: 25183752.0516242
Spatial Reference: 102100
Full Extent:
XMin: -20037507.0671618
YMin: -19971868.8804086
XMax: 20037507.0671618
YMax: 19971868.8804086
Spatial Reference: 102100
Units: esriMeters
Supported Image Format Types: PNG24,PNG,JPG,DIB,TIFF,EMF,PS,PDF,GIF,SVG,SVGZ,AI
Document Info:
- Title: World Terrain Base
- Author: ESRI
- Comments:
- Subject:
- Category:
- Keywords:
Supported Interfaces:
REST
SOAP
Supported Operations:
Export Map
Generate KML