{
 "currentVersion": 10.91,
 "serviceDescription": "Antarctic Imagery provides 15m TerraColor imagery for the Antarctic region. For more information on this map, including the terms of use, visit us online<\/a>.",
 "mapName": "Layers",
 "description": "Antarctic Imagery provides 15m TerraColor imagery for the Antarctic region. For more information on this map, including the terms of use, visit us online at http://goto.arcgisonline.com/maps/Antarctic_Imagery",
 "copyrightText": "Source: Earthstar Geographics",
 "supportsDynamicLayers": false,
 "layers": [
  {
   "id": 0,
   "name": "Antarctic Imagery",
   "parentLayerId": -1,
   "defaultVisibility": true,
   "subLayerIds": null,
   "minScale": 0,
   "maxScale": 0,
   "type": "Feature Layer",
   "geometryType": "esriGeometryPolygon"
  }
 ],
 "tables": [],
 "spatialReference": {
  "wkid": 3031,
  "latestWkid": 3031
 },
 "singleFusedMapCache": true,
 "tileInfo": {
  "rows": 256,
  "cols": 256,
  "dpi": 96,
  "format": "JPEG",
  "compressionQuality": 75,
  "origin": {
   "x": -3.369955099203E7,
   "y": 3.369955101703E7
  },
  "spatialReference": {
   "wkid": 3031,
   "latestWkid": 3031
  },
  "lods": [
   {
    "level": 0,
    "resolution": 238810.81335399998,
    "scale": 9.0259024528771E8
   },
   {
    "level": 1,
    "resolution": 119405.40667699999,
    "scale": 4.51295122643855E8
   },
   {
    "level": 2,
    "resolution": 59702.70333849987,
    "scale": 2.25647561321927E8
   },
   {
    "level": 3,
    "resolution": 29851.351669250063,
    "scale": 1.12823780660964E8
   },
   {
    "level": 4,
    "resolution": 14925.675834625032,
    "scale": 5.6411890330482E7
   },
   {
    "level": 5,
    "resolution": 7462.837917312516,
    "scale": 2.8205945165241E7
   },
   {
    "level": 6,
    "resolution": 3731.4189586563907,
    "scale": 1.4102972582621E7
   },
   {
    "level": 7,
    "resolution": 1865.709479328063,
    "scale": 7051486.29131
   },
   {
    "level": 8,
    "resolution": 932.8547396640315,
    "scale": 3525743.145655
   },
   {
    "level": 9,
    "resolution": 466.42736983214803,
    "scale": 1762871.572828
   },
   {
    "level": 10,
    "resolution": 233.21368491607402,
    "scale": 881435.786414
   },
   {
    "level": 11,
    "resolution": 116.60684245803701,
    "scale": 440717.893207
   },
   {
    "level": 12,
    "resolution": 58.30342122888621,
    "scale": 220358.946603
   },
   {
    "level": 13,
    "resolution": 29.151710614575396,
    "scale": 110179.473302
   },
   {
    "level": 14,
    "resolution": 14.5758553072877,
    "scale": 55089.736651
   },
   {
    "level": 15,
    "resolution": 7.28792765351156,
    "scale": 27544.868325
   },
   {
    "level": 16,
    "resolution": 3.64396382688807,
    "scale": 13772.434163
   },
   {
    "level": 17,
    "resolution": 1.82198191331174,
    "scale": 6886.217081
   },
   {
    "level": 18,
    "resolution": 0.910990956788164,
    "scale": 3443.108541
   },
   {
    "level": 19,
    "resolution": 0.45549547826179,
    "scale": 1721.55427
   },
   {
    "level": 20,
    "resolution": 0.227747739130895,
    "scale": 860.777135
   },
   {
    "level": 21,
    "resolution": 0.113873869697739,
    "scale": 430.388568
   },
   {
    "level": 22,
    "resolution": 0.05693693484887,
    "scale": 215.194284
   },
   {
    "level": 23,
    "resolution": 0.028468467424435,
    "scale": 107.597142
   }
  ]
 },
 "initialExtent": {
  "xmin": -9913957.327914657,
  "ymin": -5730886.461772691,
  "xmax": 9913957.327914657,
  "ymax": 5730886.461773157,
  "spatialReference": {
   "wkid": 3031,
   "latestWkid": 3031
  }
 },
 "fullExtent": {
  "xmin": -3.0635955947272874E7,
  "ymin": -3.063595594727252E7,
  "xmax": 3.0635955947272874E7,
  "ymax": 3.0635955947272986E7,
  "spatialReference": {
   "wkid": 3031,
   "latestWkid": 3031
  }
 },
 "minScale": 0,
 "maxScale": 0,
 "units": "esriMeters",
 "supportedImageFormatTypes": "PNG32,PNG24,PNG,JPG,DIB,TIFF,EMF,PS,PDF,GIF,SVG,SVGZ,BMP",
 "documentInfo": {
  "Title": "World Imagery",
  "Author": "Esri",
  "Comments": "",
  "Subject": "imagery, satellite, aerial, 500m (World), 15m (World)",
  "Category": "imageryBaseMapsEarthCover (Imagery, basemaps, and land cover)",
  "AntialiasingMode": "None",
  "TextAntialiasingMode": "Force",
  "Keywords": "World,Global,Antarctic"
 },
 "capabilities": "Map,Tilemap",
 "supportedQueryFormats": "JSON, geoJSON",
 "exportTilesAllowed": false,
 "referenceScale": 0,
 "datumTransformations": [
  {
   "geoTransforms": [
    {
     "wkid": 108001,
     "latestWkid": 1241,
     "transformForward": true,
     "name": "NAD_1927_To_NAD_1983_NADCON"
    }
   ]
  },
  {
   "geoTransforms": [
    {
     "wkid": 108001,
     "latestWkid": 1241,
     "transformForward": false,
     "name": "NAD_1927_To_NAD_1983_NADCON"
    }
   ]
  }
 ],
 "supportsDatumTransformation": true,
 "maxRecordCount": 1000,
 "maxImageHeight": 4096,
 "maxImageWidth": 4096,
 "supportedExtensions": "KmlServer"
}
