View In:
  ArcGIS JavaScript
  ArcGIS Online Map Viewer
  ArcGIS Earth
Service Description:  Terrain 3D provides global elevation to use as a ground surface in 3D applications such as ArcGIS Pro, ArcGIS Online webscene. Heights are orthometric (in meters) and are based on multiple sources.This elevation layer compiles data from multiple data sources ranging from 1000m - 50cm (see Elevation Coverage Map for details.). For more information on this service, including the terms of use, visit us online.
Name:  WorldElevation3D/Terrain3D
Description:  Terrain 3D provides global elevation to use as a ground surface in 3D applications such as ArcGIS Pro, ArcGIS Online webscene. Heights are orthometric (in meters) and are based on multiple sources.This elevation layer compiles data from multiple data sources ranging from 1000m - 50cm (see Elevation Coverage Map for details.). For more information on this service, including the terms of use, visit us online.
Single Fused Map Cache:  true
Tile Info: 
- Height: 256
 
- Width: 256
 
- DPI: 96
 
- 
Levels of Detail:  17
- 
Level ID: 0
[ Start Tile, End Tile ]
 
- Resolution: 156543.03392800014
 
- Scale: 5.91657527591555E8
 
- 
Level ID: 1
[ Start Tile, End Tile ]
 
- Resolution: 78271.51696399994
 
- Scale: 2.95828763795777E8
 
- 
Level ID: 2
[ Start Tile, End Tile ]
 
- Resolution: 39135.75848200009
 
- Scale: 1.47914381897889E8
 
- 
Level ID: 3
[ Start Tile, End Tile ]
 
- Resolution: 19567.87924099992
 
- Scale: 7.3957190948944E7
 
- 
Level ID: 4
[ Start Tile, End Tile ]
 
- Resolution: 9783.93962049996
 
- Scale: 3.6978595474472E7
 
- 
Level ID: 5
[ Start Tile, End Tile ]
 
- Resolution: 4891.96981024998
 
- Scale: 1.8489297737236E7
- Format: LERC
 
- Compression Quality: 0.0
 
- LERC Error: 0.1
 
- Origin: X:  -2.0037508342787E7
Y:  2.0037508342787E7
 
- Spatial Reference: 102100
 (3857)
 
Storage Info: 
- Storage Format: esriMapCacheStorageModeCompactV2
 
- Packet Size: 128
 
Extent: 
XMin: -2.0037507842788246E7
YMin: -2.0037508342687853E7
XMax: 2.0037507842788246E7
YMax: 2.00375083428E7
Spatial Reference: 102100
 (3857)
Initial Extent: 
XMin: -2.0037507842788246E7
YMin: -2.0037508342687853E7
XMax: 2.0037507842788246E7
YMax: 2.00375083428E7
Spatial Reference: 102100
 (3857)
Full Extent: 
XMin: -2.0037507842788246E7
YMin: -2.0037508342687853E7
XMax: 2.0037507842788246E7
YMax: 2.00375083428E7
Spatial Reference: 102100
 (3857)
Pixel Size X:  0.5971642774751897
Pixel Size Y:  0.59716415
Band Count: 1
Pixel Type: F32
RasterFunction Infos:  {"rasterFunctionInfos": [{
 "name": "None",
 "description": "",
 "help": ""
}]}
Mensuration Capabilities: Basic
Inspection Capabilities: 
Has Histograms:  true
Has Colormap:  false
Has Multi Dimensions :  false
Rendering Rule: 
Min Scale:  0
Max Scale:  0
Resampling:  false
Copyright Text:  Sources: Maxar, Airbus DS, USGS, NGA, NASA, CGIAR, GEBCO, N Robinson, NCEAS, NLS, OS, NMA, Geodatastyrelsen and the GIS User Community
Service Data Type:  esriImageServiceDataTypeElevation
Min Values:  -450
Max Values:  8700
Mean Values:  400
Standard Deviation Values:  870
Object ID Field:  OBJECTID
Fields: 
- 
OBJECTID
(
type: esriFieldTypeOID, alias: OBJECTID
)
 
- 
Shape
(
type: esriFieldTypeGeometry, alias: Shape
)
 
- 
Name
(
type: esriFieldTypeString, alias: Name, length: 200
)
 
- 
Category
(
type: esriFieldTypeInteger, alias: Category
, Coded Values: 
[0: Unknown]
, [1: Primary]
, [2: Overview]
, ...6 more...
)
 
Default Mosaic Method:  None
Allowed Mosaic Methods:  None
SortField:  N/A
SortValue:  N/A
Mosaic Operator:  First
Default Compression Quality:  10000
Default Resampling Method:  Bilinear
Max Record Count:  1
Max Image Height:  4000
Max Image Width:  4000
Max Download Image Count:  0
Max Mosaic Image Count:  20
Allow Raster Function:  false
Allow Copy:  false
Allow Analysis:  true
Allow Compute TiePoints:  false
Supports Statistics:  true
Supports Advanced Queries:  true
Use StandardizedQueries:  true
Raster Type Infos: 
Name: Raster Dataset
Description: Supports all ArcGIS Raster Datasets
Help: 
Has Raster Attribute Table:  false
Edit Fields Info:  null
Ownership Based AccessControl For Rasters:  null
Child Resources:
  
Info
  Histograms
  Statistics
  Key Properties
  Legend
  Raster Function Infos
Supported Operations:
  
Export Image
  Identify
  Measure
  Compute Histograms
  Compute Statistics Histograms
  Get Samples
  Compute Class Statistics
  Query Boundary
  Compute Pixel Location
  Compute Angles
  Validate
  Project
  Calculate Volume